BEGIN:VCALENDAR
VERSION:2.0
PRODID:-//eventon.com NONSGML v1.0//EN
BEGIN:VEVENT
UID:69e7345fa16c1
DTSTAMP:20260421T092503
DTSTART:20240123T080000Z
DTEND:20240123T100000Z
LOCATION:
SUMMARY:A vállalkozó értékesítő - az értékesítői attitűd "ONLINE" ELŐADÁS
DESCRIPTION: ELŐADÁS FELVÉTELE 1. RÉSZ ELŐADÁS FELVÉTELE 2. RÉSZ ELŐADÁS ANYAGA Ez a kijelentés - A vállalkozó értékesítő! - még mindig sok vállalkozónál erős tiltakozást vált ki\,  degradálónak\,  sértőnek érzik. Az előadáson aládúcoljuk ezt a kijelentést\,  és feloldunk néhány ellentmondást: - Ha vállalkozó vagy és ügyfelekre van szükséged\,  akkor értékesítő vagy![..]
END:VEVENT
END:VCALENDAR