BEGIN:VCALENDAR
VERSION:2.0
PRODID:-//eventon.com NONSGML v1.0//EN
BEGIN:VEVENT
UID:69e890129c6a8
DTSTAMP:20260422T100834
DTSTART:20230801T080000Z
DTEND:20230801T100000Z
LOCATION:
SUMMARY:Hogyan értékesíts szolgáltatást 2023-ban? "ONLINE" ELŐADÁS
DESCRIPTION: ELŐADÁS FELVÉTELE 1. RÉSZ ELŐADÁS FELVÉTELE 2. RÉSZ ELŐADÁS ANYAGA Nagyon sok szolgáltató vállalkozó\,  például könyvelő\,  coach\,  tanácsadó küzködik azzal\,  hogy nincs elég ügyfele. Néhányan még azt sem fogadják el\,  hogy ők értékesítők\,  hiszen nem termékük van. Gyere el az előadásra\,  és megtudod\,  hogy: ● szolgáltatóként értékesítő vagy\,  ● mik[..]
END:VEVENT
END:VCALENDAR