BEGIN:VCALENDAR
VERSION:2.0
PRODID:-//eventon.com NONSGML v1.0//EN
BEGIN:VEVENT
UID:69e7356d8cd67
DTSTAMP:20260421T092933
DTSTART:20220816T080000Z
DTEND:20220816T100000Z
LOCATION:
SUMMARY:STRESSZ & KONFLIKTUSKEZELÉS - "ONLINE" ELŐADÁS
DESCRIPTION: ELŐADÁS FELVÉTELE 1. RÉSZ ELŐADÁS FELVÉTELE 2. RÉSZ ELŐADÁS ANYAGA „A legnagyobb fegyverünk a stressz ellen az a képességünk\,  hogy megválasszuk a gondolatainkat!” Kíváncsi vagy a stressz-fajtáira és összetevőire? Szeretnéd idejében felismerni a stressz állapot figyelmeztető jeleit? A PROGRAM SORÁN: -megismerjük a stressz egyénre és szervezetre gyakorolt kihatását -azonosítják és[..]
END:VEVENT
END:VCALENDAR