BEGIN:VCALENDAR
VERSION:2.0
PRODID:-//eventon.com NONSGML v1.0//EN
BEGIN:VEVENT
UID:69eb18c683bf9
DTSTAMP:20260424T081622
DTSTART:20220215T080000Z
DTEND:20220215T100000Z
LOCATION:
SUMMARY:Tárgyalások felépítése - "ONLINE" ELŐADÁS
DESCRIPTION: Előadás felvétele ELŐADÁS ANYAGA Ügyfélszerzés\,  időpont\,  tárgyalás\,  ajánlás\,  zárás\,  kifogáskezelés … Mennyire értékesítesz tudatosan? Eleged van a „meggondolom\,  majd én jelentkezem” ügyfelekből? Unod\,  hogy csak adod ki az ajánlatokat\,  de alig lesz belőle üzlet? Unod\,  hogy alkudoznak\,  mindent féláron akarnak\,  drágállnak mindent? Előadó: László Zoltán REGISZTRÁCIÓ &nbsp;
END:VEVENT
END:VCALENDAR